BEGIN:VCALENDAR
VERSION:2.0
PRODID:-//Tree House CTK - ECPv6.15.20//NONSGML v1.0//EN
CALSCALE:GREGORIAN
METHOD:PUBLISH
X-ORIGINAL-URL:https://thetreehousectk.org
X-WR-CALDESC:Events for Tree House CTK
REFRESH-INTERVAL;VALUE=DURATION:PT1H
X-Robots-Tag:noindex
X-PUBLISHED-TTL:PT1H
BEGIN:VTIMEZONE
TZID:America/New_York
BEGIN:DAYLIGHT
TZOFFSETFROM:-0500
TZOFFSETTO:-0400
TZNAME:EDT
DTSTART:20190310T070000
END:DAYLIGHT
BEGIN:STANDARD
TZOFFSETFROM:-0400
TZOFFSETTO:-0500
TZNAME:EST
DTSTART:20191103T060000
END:STANDARD
BEGIN:DAYLIGHT
TZOFFSETFROM:-0500
TZOFFSETTO:-0400
TZNAME:EDT
DTSTART:20200308T070000
END:DAYLIGHT
BEGIN:STANDARD
TZOFFSETFROM:-0400
TZOFFSETTO:-0500
TZNAME:EST
DTSTART:20201101T060000
END:STANDARD
BEGIN:DAYLIGHT
TZOFFSETFROM:-0500
TZOFFSETTO:-0400
TZNAME:EDT
DTSTART:20210314T070000
END:DAYLIGHT
BEGIN:STANDARD
TZOFFSETFROM:-0400
TZOFFSETTO:-0500
TZNAME:EST
DTSTART:20211107T060000
END:STANDARD
BEGIN:DAYLIGHT
TZOFFSETFROM:-0500
TZOFFSETTO:-0400
TZNAME:EDT
DTSTART:20220313T070000
END:DAYLIGHT
BEGIN:STANDARD
TZOFFSETFROM:-0400
TZOFFSETTO:-0500
TZNAME:EST
DTSTART:20221106T060000
END:STANDARD
END:VTIMEZONE
BEGIN:VEVENT
DTSTART;VALUE=DATE:20210305
DTEND;VALUE=DATE:20210306
DTSTAMP:20260424T110234
CREATED:20200824T185648Z
LAST-MODIFIED:20200824T185648Z
UID:2471-1614902400-1614988799@thetreehousectk.org
SUMMARY:AMS Conference (no school)
DESCRIPTION:
URL:https://thetreehousectk.org/event/ams-conference-no-school/
CATEGORIES:No School
END:VEVENT
BEGIN:VEVENT
DTSTART;VALUE=DATE:20210215
DTEND;VALUE=DATE:20210216
DTSTAMP:20260424T110234
CREATED:20200824T185618Z
LAST-MODIFIED:20200824T185618Z
UID:2467-1613347200-1613433599@thetreehousectk.org
SUMMARY:Presidents’ Day (no school\, all personnel out)
DESCRIPTION:
URL:https://thetreehousectk.org/event/presidents-day-no-school-all-personnel-out/
CATEGORIES:No School
END:VEVENT
BEGIN:VEVENT
DTSTART;VALUE=DATE:20210118
DTEND;VALUE=DATE:20210119
DTSTAMP:20260424T110234
CREATED:20200824T185500Z
LAST-MODIFIED:20200824T185500Z
UID:2455-1610928000-1611014399@thetreehousectk.org
SUMMARY:Dr. Martin Luther King\, Jr. Day (all personnel out)
DESCRIPTION:
URL:https://thetreehousectk.org/event/dr-martin-luther-king-jr-day-all-personnel-out/
CATEGORIES:No School
END:VEVENT
BEGIN:VEVENT
DTSTART;VALUE=DATE:20210105
DTEND;VALUE=DATE:20210106
DTSTAMP:20260424T110234
CREATED:20200824T185407Z
LAST-MODIFIED:20200824T185407Z
UID:2449-1609804800-1609891199@thetreehousectk.org
SUMMARY:Teacher Workday/Professional Development (students out)
DESCRIPTION:
URL:https://thetreehousectk.org/event/teacher-workday-professional-development-students-out/
CATEGORIES:No School
END:VEVENT
BEGIN:VEVENT
DTSTART;VALUE=DATE:20201221
DTEND;VALUE=DATE:20210105
DTSTAMP:20260424T110234
CREATED:20200824T185351Z
LAST-MODIFIED:20200824T185351Z
UID:2447-1608508800-1609804799@thetreehousectk.org
SUMMARY:Christmas & New Year’s Holidays (all personnel out)
DESCRIPTION:
URL:https://thetreehousectk.org/event/christmas-new-years-holidays-all-personnel-out/
CATEGORIES:No School
END:VEVENT
BEGIN:VEVENT
DTSTART;VALUE=DATE:20201123
DTEND;VALUE=DATE:20201128
DTSTAMP:20260424T110234
CREATED:20200824T185317Z
LAST-MODIFIED:20200824T185317Z
UID:2443-1606089600-1606521599@thetreehousectk.org
SUMMARY:Thanksgiving Holidays (no school\, all personnel out)
DESCRIPTION:
URL:https://thetreehousectk.org/event/thanksgiving-holidays-no-school-all-personnel-out/
CATEGORIES:No School
END:VEVENT
BEGIN:VEVENT
DTSTART;VALUE=DATE:20201111
DTEND;VALUE=DATE:20201112
DTSTAMP:20260424T110234
CREATED:20200824T185249Z
LAST-MODIFIED:20200824T185249Z
UID:2439-1605052800-1605139199@thetreehousectk.org
SUMMARY:Veterans Day Observed (no school\, all personnel out)
DESCRIPTION:
URL:https://thetreehousectk.org/event/veterans-day-observed-no-school-all-personnel-out/
CATEGORIES:No School
END:VEVENT
BEGIN:VEVENT
DTSTART;VALUE=DATE:20200907
DTEND;VALUE=DATE:20200908
DTSTAMP:20260424T110234
CREATED:20200824T185144Z
LAST-MODIFIED:20200824T185144Z
UID:2431-1599436800-1599523199@thetreehousectk.org
SUMMARY:Labor Day (no school\, all personnel out)
DESCRIPTION:
URL:https://thetreehousectk.org/event/labor-day-no-school-all-personnel-out/
CATEGORIES:No School
END:VEVENT
END:VCALENDAR